0.3
0
0
-0.3
378000.15
4310999.85
