0.3
0
0
-0.3
360000.15
4325999.85
