0.3
0
0
-0.3
354000.15
4331999.85
