1.8331560659
0.0000000000
0.0000000000
-1.8331560659
518388.3473153941
8419563.5394314490
