1.8218205850
0.0000000000
0.0000000000
-1.8218205850
533952.3495112405
8429984.6990246102
