1.6596763490
0.0000000000
0.0000000000
-1.6596763490
547604.3108590973
8424514.6452192254
