1.7992798094
0.0000000000
0.0000000000
-1.7992798094
546073.8625825704
8424595.3271068446
