1.7721939517
0.0000000000
0.0000000000
-1.7721939517
545006.1097405079
8423968.6760942545
