1.8720910058
0.0000000000
0.0000000000
-1.8720910058
543527.5849223194
8423626.3795481212
