1.7646211854
0.0000000000
0.0000000000
-1.7646211854
519861.5640659421
8414367.2396250442
