1.7569601904
0.0000000000
0.0000000000
-1.7569601904
521000.5522135360
8414779.4176904298
