1.7683763485
0.0000000000
0.0000000000
-1.7683763485
522027.0595250090
8415311.4412144870
