1.7624418442
0.0000000000
0.0000000000
-1.7624418442
523196.9996892600
8415815.2400216199
