1.7681488494
0.0000000000
0.0000000000
-1.7681488494
524336.2355986558
8416229.6659974810
