1.7645402828
0.0000000000
0.0000000000
-1.7645402828
525493.4394374043
8416830.0414862111
