1.7767615246
0.0000000000
0.0000000000
-1.7767615246
526718.2039237832
8417388.5645069350
