1.8008032185
0.0000000000
0.0000000000
-1.8008032185
527824.0994017687
8417992.4519968145
