1.8320215728
0.0000000000
0.0000000000
-1.8320215728
528883.8306020508
8418591.8903359976
