1.7025488456
0.0000000000
0.0000000000
-1.7025488456
530246.0562582667
8419087.8706007749
