1.7401139604
0.0000000000
0.0000000000
-1.7401139604
531384.8626878826
8419664.7976413537
