1.7449559539
0.0000000000
0.0000000000
-1.7449559539
534922.1801749565
8421418.4828736782
