3.3539629998
0.0000000000
0.0000000000
-3.3539629998
535189.8119384882
8423704.9839575253
