1.7909148261
0.0000000000
0.0000000000
-1.7909148261
537313.1492879196
8422529.0157480184
