1.7785477417
0.0000000000
0.0000000000
-1.7785477417
538476.5504851338
8423067.7292437162
