1.7803260193
0.0000000000
0.0000000000
-1.7803260193
539757.4456453968
8423600.0547322426
