1.7739071920
0.0000000000
0.0000000000
-1.7739071920
541072.0391303153
8424286.6179950628
