1.7619414253
0.0000000000
0.0000000000
-1.7619414253
542422.4978743756
8424745.4970444944
