1.8114445159
0.0000000000
0.0000000000
-1.8114445159
543640.8520845597
8425377.4815164972
