1.8065266028
0.0000000000
0.0000000000
-1.8065266028
544883.8189366623
8425898.8109531347
