1.7970504357
0.0000000000
0.0000000000
-1.7970504357
546059.1014910222
8426438.3008260652
