1.8050085717
0.0000000000
0.0000000000
-1.8050085717
543909.8777093329
8428988.9091022555
