1.7894796008
0.0000000000
0.0000000000
-1.7894796008
542760.1723636540
8428411.1255697180
