1.8030809789
0.0000000000
0.0000000000
-1.8030809789
541597.8493719508
8427868.1606943142
