1.7896604707
0.0000000000
0.0000000000
-1.7896604707
540522.1236281681
8427351.0888637453
