1.7846140561
0.0000000000
0.0000000000
-1.7846140561
539292.4495526417
8426782.1959973872
