1.7948707337
0.0000000000
0.0000000000
-1.7948707337
538028.9000268072
8426221.3118365929
