1.8048117173
0.0000000000
0.0000000000
-1.8048117173
536793.7874488919
8425650.2587286420
