1.8129010323
0.0000000000
0.0000000000
-1.8129010323
535582.3742580452
8425062.3998880759
