1.7883001732
0.0000000000
0.0000000000
-1.7883001732
534462.9611343909
8424577.0478790235
