1.7863153832
0.0000000000
0.0000000000
-1.7863153832
533339.3418832088
8423986.1578466594
