1.8176546598
0.0000000000
0.0000000000
-1.8176546598
532160.3022187054
8423466.9735274687
