1.7672555723
0.0000000000
0.0000000000
-1.7672555723
531107.6675612913
8422790.1900184099
