1.8412298221
0.0000000000
0.0000000000
-1.8412298221
529917.2569517401
8422351.4234462045
