1.8882867021
0.0000000000
0.0000000000
-1.8882867021
528656.5478690410
8421763.3775795382
