1.8414668161
0.0000000000
0.0000000000
-1.8414668161
527485.0224253699
8421165.6160035692
