1.8284716140
0.0000000000
0.0000000000
-1.8284716140
526391.4835076579
8420557.8050243016
