1.7131908494
0.0000000000
0.0000000000
-1.7131908494
525592.7743397444
8419709.9309242573
