1.8140509483
0.0000000000
0.0000000000
-1.8140509483
524088.4460751574
8419302.1833836436
