1.8095811719
0.0000000000
0.0000000000
-1.8095811719
523038.1258594347
8418719.0382643100
