1.9084790487
0.0000000000
0.0000000000
-1.9084790487
527051.5000274335
8421414.3127591107
